BEGIN:VCALENDAR
VERSION:2.0
PRODID:-//Great Northern Services - ECPv6.15.20//NONSGML v1.0//EN
CALSCALE:GREGORIAN
METHOD:PUBLISH
X-WR-CALNAME:Great Northern Services
X-ORIGINAL-URL:https://www.gnservices.org
X-WR-CALDESC:Events for Great Northern Services
REFRESH-INTERVAL;VALUE=DURATION:PT1H
X-Robots-Tag:noindex
X-PUBLISHED-TTL:PT1H
BEGIN:VTIMEZONE
TZID:America/Los_Angeles
BEGIN:DAYLIGHT
TZOFFSETFROM:-0800
TZOFFSETTO:-0700
TZNAME:PDT
DTSTART:20160313T100000
END:DAYLIGHT
BEGIN:STANDARD
TZOFFSETFROM:-0700
TZOFFSETTO:-0800
TZNAME:PST
DTSTART:20161106T090000
END:STANDARD
BEGIN:DAYLIGHT
TZOFFSETFROM:-0800
TZOFFSETTO:-0700
TZNAME:PDT
DTSTART:20170312T100000
END:DAYLIGHT
BEGIN:STANDARD
TZOFFSETFROM:-0700
TZOFFSETTO:-0800
TZNAME:PST
DTSTART:20171105T090000
END:STANDARD
BEGIN:DAYLIGHT
TZOFFSETFROM:-0800
TZOFFSETTO:-0700
TZNAME:PDT
DTSTART:20180311T100000
END:DAYLIGHT
BEGIN:STANDARD
TZOFFSETFROM:-0700
TZOFFSETTO:-0800
TZNAME:PST
DTSTART:20181104T090000
END:STANDARD
BEGIN:DAYLIGHT
TZOFFSETFROM:-0800
TZOFFSETTO:-0700
TZNAME:PDT
DTSTART:20190310T100000
END:DAYLIGHT
BEGIN:STANDARD
TZOFFSETFROM:-0700
TZOFFSETTO:-0800
TZNAME:PST
DTSTART:20191103T090000
END:STANDARD
BEGIN:DAYLIGHT
TZOFFSETFROM:-0800
TZOFFSETTO:-0700
TZNAME:PDT
DTSTART:20200308T100000
END:DAYLIGHT
BEGIN:STANDARD
TZOFFSETFROM:-0700
TZOFFSETTO:-0800
TZNAME:PST
DTSTART:20201101T090000
END:STANDARD
END:VTIMEZONE
BEGIN:VEVENT
DTSTART;TZID=America/Los_Angeles:20190222T100000
DTEND;TZID=America/Los_Angeles:20190222T233000
DTSTAMP:20260423T125524
CREATED:20181218T180545Z
LAST-MODIFIED:20181218T180545Z
UID:4824-1550829600-1550878200@www.gnservices.org
SUMMARY:Greenview Commodities Distribution
DESCRIPTION:USDA Commodities are being distributed for residents of Greenview. Participation is easy! These distributions of shelf-stable staples are a way for low-income households to supplement their diet\, perhaps freeing up some funds for other expenses such as fresh vegetables\, bills\, etc. All USDA foods are domestically grown and are offered as one of USDA’s methods of supporting farmers. \nSee the full list of distribution sites & dates as well as income guidelines and downloadable Alternate Pickup Forms. 
URL:https://www.gnservices.org/event/greenview-commodities-distribution-4/2019-02-22/
LOCATION:Valley Oaks Senior Center
CATEGORIES:Emergency Food Commodities Distribution
END:VEVENT
BEGIN:VEVENT
DTSTART;TZID=America/Los_Angeles:20181207T100000
DTEND;TZID=America/Los_Angeles:20181207T113000
DTSTAMP:20260423T125524
CREATED:20180717T232250Z
LAST-MODIFIED:20180725T195049Z
UID:3891-1544176800-1544182200@www.gnservices.org
SUMMARY:Greenview Commodities Distribution
DESCRIPTION:USDA Commodities are being distributed for residents of Greenview. Participation is easy! These distributions of shelf-stable staples are a way for low-income households to supplement their diet\, perhaps freeing up some funds for other expenses such as fresh vegetables\, bills\, etc. All USDA foods are domestically grown and are offered as one of USDA’s methods of supporting farmers. \nSee the full list of distribution sites & dates as well as income guidelines and downloadable Alternate Pickup Forms. 
URL:https://www.gnservices.org/event/greenview-commodities-distribution-3/
LOCATION:Valley Oaks Senior Center
CATEGORIES:Emergency Food Commodities Distribution
END:VEVENT
BEGIN:VEVENT
DTSTART;TZID=America/Los_Angeles:20181005T100000
DTEND;TZID=America/Los_Angeles:20181005T113000
DTSTAMP:20260423T125524
CREATED:20180717T231843Z
LAST-MODIFIED:20180717T231843Z
UID:3889-1538733600-1538739000@www.gnservices.org
SUMMARY:Greenview Commodities Distribution
DESCRIPTION:USDA Commodities are being distributed for residents of Greenview. Participation is easy! These distributions of shelf-stable staples are a way for low-income households to supplement their diet\, perhaps freeing up some funds for other expenses such as fresh vegetables\, bills\, etc. All USDA foods are domestically grown and are offered as one of USDA’s methods of supporting farmers. \nSee the full list of distribution sites & dates as well as income guidelines and downloadable Alternate Pickup Forms. 
URL:https://www.gnservices.org/event/greenview-commodities-distribution-2/
LOCATION:Valley Oaks Senior Center
CATEGORIES:Emergency Food Commodities Distribution
END:VEVENT
BEGIN:VEVENT
DTSTART;TZID=America/Los_Angeles:20180803T100000
DTEND;TZID=America/Los_Angeles:20180803T113000
DTSTAMP:20260423T125524
CREATED:20180717T231743Z
LAST-MODIFIED:20180717T231743Z
UID:3887-1533290400-1533295800@www.gnservices.org
SUMMARY:Greenview Commodities Distribution
DESCRIPTION:USDA Commodities are being distributed for residents of Greenview. Participation is easy! These distributions of shelf-stable staples are a way for low-income households to supplement their diet\, perhaps freeing up some funds for other expenses such as fresh vegetables\, bills\, etc. All USDA foods are domestically grown and are offered as one of USDA’s methods of supporting farmers. \nSee the full list of distribution sites & dates as well as income guidelines and downloadable Alternate Pickup Forms. 
URL:https://www.gnservices.org/event/greenview-commodities-distribution/
LOCATION:Valley Oaks Senior Center
CATEGORIES:Emergency Food Commodities Distribution
END:VEVENT
BEGIN:VEVENT
DTSTART;TZID=America/Los_Angeles:20171215T100000
DTEND;TZID=America/Los_Angeles:20171215T113000
DTSTAMP:20260423T125524
CREATED:20171105T044239Z
LAST-MODIFIED:20171105T044239Z
UID:3626-1513332000-1513337400@www.gnservices.org
SUMMARY:Greenview Food Distribution
DESCRIPTION:Valley Oaks Senior Center
URL:https://www.gnservices.org/event/greenview-food-distribution/
LOCATION:Valley Oaks Senior Center
CATEGORIES:Emergency Food Commodities Distribution
END:VEVENT
END:VCALENDAR