BEGIN:VCALENDAR
VERSION:2.0
PRODID:-//Great Northern Services - ECPv6.15.20//NONSGML v1.0//EN
CALSCALE:GREGORIAN
METHOD:PUBLISH
X-WR-CALNAME:Great Northern Services
X-ORIGINAL-URL:https://www.gnservices.org
X-WR-CALDESC:Events for Great Northern Services
REFRESH-INTERVAL;VALUE=DURATION:PT1H
X-Robots-Tag:noindex
X-PUBLISHED-TTL:PT1H
BEGIN:VTIMEZONE
TZID:America/Los_Angeles
BEGIN:DAYLIGHT
TZOFFSETFROM:-0800
TZOFFSETTO:-0700
TZNAME:PDT
DTSTART:20170312T100000
END:DAYLIGHT
BEGIN:STANDARD
TZOFFSETFROM:-0700
TZOFFSETTO:-0800
TZNAME:PST
DTSTART:20171105T090000
END:STANDARD
BEGIN:DAYLIGHT
TZOFFSETFROM:-0800
TZOFFSETTO:-0700
TZNAME:PDT
DTSTART:20180311T100000
END:DAYLIGHT
BEGIN:STANDARD
TZOFFSETFROM:-0700
TZOFFSETTO:-0800
TZNAME:PST
DTSTART:20181104T090000
END:STANDARD
BEGIN:DAYLIGHT
TZOFFSETFROM:-0800
TZOFFSETTO:-0700
TZNAME:PDT
DTSTART:20190310T100000
END:DAYLIGHT
BEGIN:STANDARD
TZOFFSETFROM:-0700
TZOFFSETTO:-0800
TZNAME:PST
DTSTART:20191103T090000
END:STANDARD
BEGIN:DAYLIGHT
TZOFFSETFROM:-0800
TZOFFSETTO:-0700
TZNAME:PDT
DTSTART:20200308T100000
END:DAYLIGHT
BEGIN:STANDARD
TZOFFSETFROM:-0700
TZOFFSETTO:-0800
TZNAME:PST
DTSTART:20201101T090000
END:STANDARD
END:VTIMEZONE
BEGIN:VEVENT
DTSTART;TZID=America/Los_Angeles:20190214T100000
DTEND;TZID=America/Los_Angeles:20190214T120000
DTSTAMP:20260423T090640
CREATED:20190108T005641Z
LAST-MODIFIED:20190108T005641Z
UID:4953-1550138400-1550145600@www.gnservices.org
SUMMARY:Help pack Snack Bags
DESCRIPTION:Work alongside other dedicated volunteers and GNS staff to load healthy\, wholesome food into Snack Bags that will be delivered to schools for distribution to families with children during extended school breaks. Bags will be assembled at the Great Northern Services Storage Facility at 310 Boles St. in Weed\, CA. \nSign up to volunteer! \n  \nVolunteers packing Snack Bags in December 2018
URL:https://www.gnservices.org/event/help-pack-snack-bags/
LOCATION:GNS Storage Facility\, 310 Boles St\, Weed\, CA\, 96094\, United States
CATEGORIES:Volunteer Opportunity
GEO:41.4213775;-122.3819286
X-APPLE-STRUCTURED-LOCATION;VALUE=URI;X-ADDRESS=GNS Storage Facility 310 Boles St Weed CA 96094 United States;X-APPLE-RADIUS=500;X-TITLE=310 Boles St:geo:-122.3819286,41.4213775
END:VEVENT
BEGIN:VEVENT
DTSTART;TZID=America/Los_Angeles:20180821T110000
DTEND;TZID=America/Los_Angeles:20180821T123000
DTSTAMP:20260423T090640
CREATED:20180718T001204Z
LAST-MODIFIED:20180718T231518Z
UID:3902-1534849200-1534854600@www.gnservices.org
SUMMARY:Weed Tailgate Produce Party
DESCRIPTION:Siskiyou County residents who income qualify can select free\, fresh produce for their households. Built on a “Donate Don’t Dump” Foodlink program and locally administered by Great Northern Services (GNS)\, Tailgate Produce Parties bring a semi-truck full of fresh produce for free distribution to four Siskiyou County locations every month from May through October. \nIncome eligibility requirements are not as restrictive as people sometimes think. For instance\, a household of one person may have a maximum gross monthly income of $1\,507.50\, and a household of four people may have a maximum gross monthly household income of $3\,037.50. Participants self-certify their eligibility and are encouraged to bring their own reusable bags.\nIt doesn’t matter where in Siskiyou County participants live\, if you income qualify\, we invite you to come to every Tailgate Produce Party we host! \nIncome guidelines\, other locations\, and more info. 
URL:https://www.gnservices.org/event/weed-tailgate-produce-party/2018-08-21/
LOCATION:GNS Storage Facility\, 310 Boles St\, Weed\, CA\, 96094\, United States
CATEGORIES:Tailgate Produce Party
GEO:41.4213775;-122.3819286
X-APPLE-STRUCTURED-LOCATION;VALUE=URI;X-ADDRESS=GNS Storage Facility 310 Boles St Weed CA 96094 United States;X-APPLE-RADIUS=500;X-TITLE=310 Boles St:geo:-122.3819286,41.4213775
END:VEVENT
END:VCALENDAR