BEGIN:VCALENDAR
VERSION:2.0
PRODID:-//Great Northern Services - ECPv6.15.20//NONSGML v1.0//EN
CALSCALE:GREGORIAN
METHOD:PUBLISH
X-WR-CALNAME:Great Northern Services
X-ORIGINAL-URL:https://www.gnservices.org
X-WR-CALDESC:Events for Great Northern Services
REFRESH-INTERVAL;VALUE=DURATION:PT1H
X-Robots-Tag:noindex
X-PUBLISHED-TTL:PT1H
BEGIN:VTIMEZONE
TZID:America/Los_Angeles
BEGIN:DAYLIGHT
TZOFFSETFROM:-0800
TZOFFSETTO:-0700
TZNAME:PDT
DTSTART:20170312T100000
END:DAYLIGHT
BEGIN:STANDARD
TZOFFSETFROM:-0700
TZOFFSETTO:-0800
TZNAME:PST
DTSTART:20171105T090000
END:STANDARD
BEGIN:DAYLIGHT
TZOFFSETFROM:-0800
TZOFFSETTO:-0700
TZNAME:PDT
DTSTART:20180311T100000
END:DAYLIGHT
BEGIN:STANDARD
TZOFFSETFROM:-0700
TZOFFSETTO:-0800
TZNAME:PST
DTSTART:20181104T090000
END:STANDARD
BEGIN:DAYLIGHT
TZOFFSETFROM:-0800
TZOFFSETTO:-0700
TZNAME:PDT
DTSTART:20190310T100000
END:DAYLIGHT
BEGIN:STANDARD
TZOFFSETFROM:-0700
TZOFFSETTO:-0800
TZNAME:PST
DTSTART:20191103T090000
END:STANDARD
END:VTIMEZONE
BEGIN:VEVENT
DTSTART;VALUE=DATE:20180704
DTEND;VALUE=DATE:20180705
DTSTAMP:20260423T132139
CREATED:20180926T212848Z
LAST-MODIFIED:20180926T212848Z
UID:4305-1530662400-1530748799@www.gnservices.org
SUMMARY:Announced: Leadership Change
DESCRIPTION:(As published in the Mt. Shasta Area Newspapers\, Wednesday\, July 4th\, 2018. ) \nGreat Northern Services is celebrating the many accomplishments of Bonnie Kubowitz as she retires from her nine-year stint as executive director of the local nonprofit. \nMarie-Josée Wells\, who has been with Great Northern for four years\, is the new executive director. \nRead More…
URL:https://www.gnservices.org/event/announced-leadership-change/
CATEGORIES:In The News
END:VEVENT
BEGIN:VEVENT
DTSTART;VALUE=DATE:20180613
DTEND;VALUE=DATE:20180614
DTSTAMP:20260423T132139
CREATED:20180926T214034Z
LAST-MODIFIED:20180926T214034Z
UID:4313-1528848000-1528934399@www.gnservices.org
SUMMARY:Announced: Free Summer Lunch Program
DESCRIPTION:GNS Community Services Director Heather Solus at Bel Air Park\, one of the 9 locations for the GNS Free Summer Lunch program in 2018.\n(As announced in the Mt. Shasta Area News on Wednesday\, June 13th) \nAll children from our community are invited to enjoy free lunches again this summer through the Great Northern Services’ Summer Lunch program. Kids can find healthy meals\, fun activities\, and a chance to see their friends at nine different locations this summer. \nRead More…
URL:https://www.gnservices.org/event/announced-free-summer-lunch-program/
CATEGORIES:In The News
END:VEVENT
BEGIN:VEVENT
DTSTART;VALUE=DATE:20180523
DTEND;VALUE=DATE:20180524
DTSTAMP:20260423T132139
CREATED:20180926T213324Z
LAST-MODIFIED:20180926T213324Z
UID:4309-1527033600-1527119999@www.gnservices.org
SUMMARY:In The News: Art Piece Sells
DESCRIPTION:(As announced in the Mt. Shasta Area Newspapers on May 23rd\, 2018) \nA work of art created by Butteville Elementary School students on display at Great Northern Services (GNS) recently sold to a private collector. The Deer Skull Lamp– a project created in 2017 by Chet Kyle’s 4th grade class—was purchased as a retirement present. The piece was on display “gallery-style” in GNS’ Community Room—a free venue for nonprofit organizations and public agencies and home of the GNS’ Student Art Project. \nRead More…
URL:https://www.gnservices.org/event/in-the-news-art-piece-sells/
CATEGORIES:In The News
END:VEVENT
BEGIN:VEVENT
DTSTART;VALUE=DATE:20180508
DTEND;VALUE=DATE:20180509
DTSTAMP:20260423T132139
CREATED:20180926T213844Z
LAST-MODIFIED:20180926T213844Z
UID:4311-1525737600-1525823999@www.gnservices.org
SUMMARY:Announced: Energy Assistance is available for more residents of Siskiyou County
DESCRIPTION:Great Northern Services Energy Assistance Department\, from left to right Energy Director Coral Gross\, Energy Assistant Christine Meadows\, Energy Assistant Dodi Dickson\, Energy Coordinator Claudia Trevisan\, and Energy Assistant Jayme Keen.\n(As announced in the Siskiyou Daily News on May 8th\, 2018 and the Mt. Shasta Area Newspapers on May 16th\, 2016) \nDue to changes in state regulations this year\, Great Northern Services has more funding available for the Low-Income Home Energy Assistance Program (LIHEAP). “In the first quarter of 2018 we were able to help 732 families with over $326\,000 toward their energy expenses. This represents a 62% increase in funds spent over the same time period last year\,” says Claudia Trevisan\, Energy Coordinator at Great Northern Services\, “and it means we were able to help more than twice as many families.” \nRead More…
URL:https://www.gnservices.org/event/announced-energy-assistance-is-available-for-more-residents-of-siskiyou-county/
CATEGORIES:In The News
END:VEVENT
BEGIN:VEVENT
DTSTART;VALUE=DATE:20180507
DTEND;VALUE=DATE:20180508
DTSTAMP:20260423T132139
CREATED:20180926T214204Z
LAST-MODIFIED:20180926T214204Z
UID:4315-1525651200-1525737599@www.gnservices.org
SUMMARY:Announced: Mt. Shasta Fresh Enrollment Opening May 7th!
DESCRIPTION:Summer Squash distributed by Mt. Shasta Fresh\nEnrollment in this season’s Mt. Shasta Fresh program opens Monday\, May 7th. The program makes fresh fruits and vegetables available for free to income-eligible Mount Shasta City residents during the summer months. Made possible by the city’s Community Development Block Grant funding\, Mt. Shasta Fresh is administered and managed by Great Northern Services (GNS). \nGNS Community Services Director Heather Solus said. “Enrollment is first come\, first served\, we are strongly advising people to enroll promptly this year.” Applicants for Mt. Shasta Fresh must be residents living within the incorporated city limits of the City of Mount Shasta and must meet income requirement guidelines. \nRead More…
URL:https://www.gnservices.org/event/announced-mt-shasta-fresh-enrollment-opening-may-7th/
CATEGORIES:In The News
END:VEVENT
BEGIN:VEVENT
DTSTART;VALUE=DATE:20180502
DTEND;VALUE=DATE:20180503
DTSTAMP:20260423T132139
CREATED:20180926T214347Z
LAST-MODIFIED:20180926T214439Z
UID:4317-1525219200-1525305599@www.gnservices.org
SUMMARY:Announced: Free Produce Tailgate Parties Returning
DESCRIPTION:(As announced in Mt. Shasta Area Newspapers\, Wednesday\, May 2nd\, 2018) \nTailgate Produce Parties return to Siskiyou County starting on May 8th. This popular program allows residents who income qualify to select free\, fresh produce for their households. Built on a “Donate Don’t Dump” Foodlink program and locally administered by Great Northern Services (GNS)\, Tailgate Produce Parties bring a semi-truck full of fresh produce for free distribution to four Siskiyou County locations every month from May through October. \nRead More…
URL:https://www.gnservices.org/event/announced-free-produce-tailgate-parties-returning/
CATEGORIES:In The News
END:VEVENT
END:VCALENDAR