BEGIN:VCALENDAR
VERSION:2.0
PRODID:-//Great Northern Services - ECPv6.15.20//NONSGML v1.0//EN
CALSCALE:GREGORIAN
METHOD:PUBLISH
X-ORIGINAL-URL:https://www.gnservices.org
X-WR-CALDESC:Events for Great Northern Services
REFRESH-INTERVAL;VALUE=DURATION:PT1H
X-Robots-Tag:noindex
X-PUBLISHED-TTL:PT1H
BEGIN:VTIMEZONE
TZID:America/Los_Angeles
BEGIN:DAYLIGHT
TZOFFSETFROM:-0800
TZOFFSETTO:-0700
TZNAME:PDT
DTSTART:20170312T100000
END:DAYLIGHT
BEGIN:STANDARD
TZOFFSETFROM:-0700
TZOFFSETTO:-0800
TZNAME:PST
DTSTART:20171105T090000
END:STANDARD
BEGIN:DAYLIGHT
TZOFFSETFROM:-0800
TZOFFSETTO:-0700
TZNAME:PDT
DTSTART:20180311T100000
END:DAYLIGHT
BEGIN:STANDARD
TZOFFSETFROM:-0700
TZOFFSETTO:-0800
TZNAME:PST
DTSTART:20181104T090000
END:STANDARD
BEGIN:DAYLIGHT
TZOFFSETFROM:-0800
TZOFFSETTO:-0700
TZNAME:PDT
DTSTART:20190310T100000
END:DAYLIGHT
BEGIN:STANDARD
TZOFFSETFROM:-0700
TZOFFSETTO:-0800
TZNAME:PST
DTSTART:20191103T090000
END:STANDARD
BEGIN:DAYLIGHT
TZOFFSETFROM:-0800
TZOFFSETTO:-0700
TZNAME:PDT
DTSTART:20200308T100000
END:DAYLIGHT
BEGIN:STANDARD
TZOFFSETFROM:-0700
TZOFFSETTO:-0800
TZNAME:PST
DTSTART:20201101T090000
END:STANDARD
END:VTIMEZONE
BEGIN:VEVENT
DTSTART;VALUE=DATE:20190417
DTEND;VALUE=DATE:20190418
DTSTAMP:20260423T112819
CREATED:20190417T230903Z
LAST-MODIFIED:20190417T230903Z
UID:5102-1555459200-1555545599@www.gnservices.org
SUMMARY:In the news: Home repair loan program returns to Weed
DESCRIPTION:Home repair loan program returns to Weed
URL:https://www.gnservices.org/event/in-the-news-home-repair-loan-program-returns-to-weed/
CATEGORIES:In The News
END:VEVENT
BEGIN:VEVENT
DTSTART;VALUE=DATE:20190409
DTEND;VALUE=DATE:20190410
DTSTAMP:20260423T112819
CREATED:20190409T141350Z
LAST-MODIFIED:20190409T141350Z
UID:5089-1554768000-1554854399@www.gnservices.org
SUMMARY:In the press: A targeted plan of action
DESCRIPTION:A targeted plan of action
URL:https://www.gnservices.org/event/in-the-press-a-targeted-plan-of-action/
CATEGORIES:In The News
END:VEVENT
BEGIN:VEVENT
DTSTART;TZID=America/Los_Angeles:20190323T080000
DTEND;TZID=America/Los_Angeles:20190323T080000
DTSTAMP:20260423T112819
CREATED:20190323T185938Z
LAST-MODIFIED:20190323T185938Z
UID:5055-1553328000-1553328000@www.gnservices.org
SUMMARY:In the press: COS addresses student hunger
DESCRIPTION:COS addresses student hunger
URL:https://www.gnservices.org/event/in-the-press-cos-addresses-student-hunger/
CATEGORIES:In The News
END:VEVENT
BEGIN:VEVENT
DTSTART;VALUE=DATE:20190206
DTEND;VALUE=DATE:20190207
DTSTAMP:20260423T112819
CREATED:20190206T223423Z
LAST-MODIFIED:20190206T223423Z
UID:5038-1549411200-1549497599@www.gnservices.org
SUMMARY:In the press: Bank's food drive provides emergency food
DESCRIPTION:Bank’s food drive provides emergency food
URL:https://www.gnservices.org/event/in-the-press-banks-food-drive-provides-emergency-food/
CATEGORIES:In The News
END:VEVENT
BEGIN:VEVENT
DTSTART;VALUE=DATE:20190116
DTEND;VALUE=DATE:20190117
DTSTAMP:20260423T112819
CREATED:20190117T201546Z
LAST-MODIFIED:20190117T201546Z
UID:4981-1547596800-1547683199@www.gnservices.org
SUMMARY:In the press: Great Northern Services receives Mercy/Dignity community grant funding
DESCRIPTION:Great Northern Services receives Mercy/Dignity community grant funding
URL:https://www.gnservices.org/event/in-the-press-great-northern-services-receives-mercy-dignity-community-grant-funding/
CATEGORIES:In The News
END:VEVENT
BEGIN:VEVENT
DTSTART;VALUE=DATE:20190112
DTEND;VALUE=DATE:20190113
DTSTAMP:20260423T112819
CREATED:20190117T201458Z
LAST-MODIFIED:20190117T201458Z
UID:4979-1547251200-1547337599@www.gnservices.org
SUMMARY:In the press: Fighting hunger in Weed by trading tattoos for food
DESCRIPTION:Fighting hunger in Weed by trading tattoos for food
URL:https://www.gnservices.org/event/in-the-press-fighting-hunger-in-weed-by-trading-tattoos-for-food/
CATEGORIES:In The News
END:VEVENT
BEGIN:VEVENT
DTSTART;VALUE=DATE:20180924
DTEND;VALUE=DATE:20180925
DTSTAMP:20260423T112819
CREATED:20180926T211510Z
LAST-MODIFIED:20180926T211510Z
UID:4302-1537747200-1537833599@www.gnservices.org
SUMMARY:Announced: Loans available for small businesses
DESCRIPTION:The Gifted Horse Lodge in Fort Jones was approved for a RMAP loan in April\, 2015 to relocate and expand their retail/deli business.Photo credit: Jeri Rangel\n(As announced in the Siskiyou Daily News on Monday\, September 24\, 2018 and in the Mt. Shasta Area Papers on Wednesday\, September 26\, 2018.) \nGreat Northern Services (GNS) announces an award from the USDA Rural Micro-enterprise Assistance Program (RMAP) of a $375\,000 loan to capitalize a revolving loan fund. This is the second time GNS has been granted RMAP funding and the money will help strengthen\, expand\, or create small businesses in Siskiyou County. Past recipients of these loans have included The Gifted Horse Lodge\, Shasta Valley Pest Control\, and Enjoy Weed. \nRead More…
URL:https://www.gnservices.org/event/announced-loans-available-for-small-businesses/
CATEGORIES:In The News
END:VEVENT
BEGIN:VEVENT
DTSTART;VALUE=DATE:20180914
DTEND;VALUE=DATE:20180915
DTSTAMP:20260423T112819
CREATED:20180926T210037Z
LAST-MODIFIED:20180926T211207Z
UID:4296-1536883200-1536969599@www.gnservices.org
SUMMARY:Announced: Banner Bank Hosting Food Drive
DESCRIPTION:Mount Shasta Banner Bank manager Sheryle Neukirch\, Banner Bank Vice President Heather Weldon\, Great Northern’s Heather Solus\, and Great Northern Executive Director Marie-Josee Wells stand next to food donated in the 2017 food drive. This year’s food drive will run through the month. Donations can be dropped off at any Banner Bank branch in the county.\nAs announced in the Siskiyou Daily News on Friday\, September 14th. \nBanner Bank is holding their annual Fall Family Food Drive\, which helps support Great Northern Services’ Emergency Food program. \nSiskiyou County Banner Bank locations are raising money and accepting donations of food at all three locations (Yreka\, Greenview and Mount Shasta) through September 28. \n\nRead More …
URL:https://www.gnservices.org/event/announced-banner-bank-hosting-food-drive/
CATEGORIES:In The News
END:VEVENT
BEGIN:VEVENT
DTSTART;VALUE=DATE:20180808
DTEND;VALUE=DATE:20180809
DTSTAMP:20260423T112819
CREATED:20180926T213039Z
LAST-MODIFIED:20180926T213039Z
UID:4307-1533686400-1533772799@www.gnservices.org
SUMMARY:In The News: Summer Lunch Program
DESCRIPTION:As published in the Mt. Shasta Area Newspapers on Wednesday\, August 8th\, 2018. Download a pdf of the article: “Free lunch program….”
URL:https://www.gnservices.org/event/in-the-news-summer-lunch-program/
CATEGORIES:In The News
END:VEVENT
BEGIN:VEVENT
DTSTART;VALUE=DATE:20180704
DTEND;VALUE=DATE:20180705
DTSTAMP:20260423T112819
CREATED:20180926T212848Z
LAST-MODIFIED:20180926T212848Z
UID:4305-1530662400-1530748799@www.gnservices.org
SUMMARY:Announced: Leadership Change
DESCRIPTION:(As published in the Mt. Shasta Area Newspapers\, Wednesday\, July 4th\, 2018. ) \nGreat Northern Services is celebrating the many accomplishments of Bonnie Kubowitz as she retires from her nine-year stint as executive director of the local nonprofit. \nMarie-Josée Wells\, who has been with Great Northern for four years\, is the new executive director. \nRead More…
URL:https://www.gnservices.org/event/announced-leadership-change/
CATEGORIES:In The News
END:VEVENT
BEGIN:VEVENT
DTSTART;VALUE=DATE:20180613
DTEND;VALUE=DATE:20180614
DTSTAMP:20260423T112819
CREATED:20180926T214034Z
LAST-MODIFIED:20180926T214034Z
UID:4313-1528848000-1528934399@www.gnservices.org
SUMMARY:Announced: Free Summer Lunch Program
DESCRIPTION:GNS Community Services Director Heather Solus at Bel Air Park\, one of the 9 locations for the GNS Free Summer Lunch program in 2018.\n(As announced in the Mt. Shasta Area News on Wednesday\, June 13th) \nAll children from our community are invited to enjoy free lunches again this summer through the Great Northern Services’ Summer Lunch program. Kids can find healthy meals\, fun activities\, and a chance to see their friends at nine different locations this summer. \nRead More…
URL:https://www.gnservices.org/event/announced-free-summer-lunch-program/
CATEGORIES:In The News
END:VEVENT
BEGIN:VEVENT
DTSTART;VALUE=DATE:20180523
DTEND;VALUE=DATE:20180524
DTSTAMP:20260423T112819
CREATED:20180926T213324Z
LAST-MODIFIED:20180926T213324Z
UID:4309-1527033600-1527119999@www.gnservices.org
SUMMARY:In The News: Art Piece Sells
DESCRIPTION:(As announced in the Mt. Shasta Area Newspapers on May 23rd\, 2018) \nA work of art created by Butteville Elementary School students on display at Great Northern Services (GNS) recently sold to a private collector. The Deer Skull Lamp– a project created in 2017 by Chet Kyle’s 4th grade class—was purchased as a retirement present. The piece was on display “gallery-style” in GNS’ Community Room—a free venue for nonprofit organizations and public agencies and home of the GNS’ Student Art Project. \nRead More…
URL:https://www.gnservices.org/event/in-the-news-art-piece-sells/
CATEGORIES:In The News
END:VEVENT
BEGIN:VEVENT
DTSTART;VALUE=DATE:20180508
DTEND;VALUE=DATE:20180509
DTSTAMP:20260423T112819
CREATED:20180926T213844Z
LAST-MODIFIED:20180926T213844Z
UID:4311-1525737600-1525823999@www.gnservices.org
SUMMARY:Announced: Energy Assistance is available for more residents of Siskiyou County
DESCRIPTION:Great Northern Services Energy Assistance Department\, from left to right Energy Director Coral Gross\, Energy Assistant Christine Meadows\, Energy Assistant Dodi Dickson\, Energy Coordinator Claudia Trevisan\, and Energy Assistant Jayme Keen.\n(As announced in the Siskiyou Daily News on May 8th\, 2018 and the Mt. Shasta Area Newspapers on May 16th\, 2016) \nDue to changes in state regulations this year\, Great Northern Services has more funding available for the Low-Income Home Energy Assistance Program (LIHEAP). “In the first quarter of 2018 we were able to help 732 families with over $326\,000 toward their energy expenses. This represents a 62% increase in funds spent over the same time period last year\,” says Claudia Trevisan\, Energy Coordinator at Great Northern Services\, “and it means we were able to help more than twice as many families.” \nRead More…
URL:https://www.gnservices.org/event/announced-energy-assistance-is-available-for-more-residents-of-siskiyou-county/
CATEGORIES:In The News
END:VEVENT
BEGIN:VEVENT
DTSTART;VALUE=DATE:20180507
DTEND;VALUE=DATE:20180508
DTSTAMP:20260423T112819
CREATED:20180926T214204Z
LAST-MODIFIED:20180926T214204Z
UID:4315-1525651200-1525737599@www.gnservices.org
SUMMARY:Announced: Mt. Shasta Fresh Enrollment Opening May 7th!
DESCRIPTION:Summer Squash distributed by Mt. Shasta Fresh\nEnrollment in this season’s Mt. Shasta Fresh program opens Monday\, May 7th. The program makes fresh fruits and vegetables available for free to income-eligible Mount Shasta City residents during the summer months. Made possible by the city’s Community Development Block Grant funding\, Mt. Shasta Fresh is administered and managed by Great Northern Services (GNS). \nGNS Community Services Director Heather Solus said. “Enrollment is first come\, first served\, we are strongly advising people to enroll promptly this year.” Applicants for Mt. Shasta Fresh must be residents living within the incorporated city limits of the City of Mount Shasta and must meet income requirement guidelines. \nRead More…
URL:https://www.gnservices.org/event/announced-mt-shasta-fresh-enrollment-opening-may-7th/
CATEGORIES:In The News
END:VEVENT
BEGIN:VEVENT
DTSTART;VALUE=DATE:20180502
DTEND;VALUE=DATE:20180503
DTSTAMP:20260423T112819
CREATED:20180926T214347Z
LAST-MODIFIED:20180926T214439Z
UID:4317-1525219200-1525305599@www.gnservices.org
SUMMARY:Announced: Free Produce Tailgate Parties Returning
DESCRIPTION:(As announced in Mt. Shasta Area Newspapers\, Wednesday\, May 2nd\, 2018) \nTailgate Produce Parties return to Siskiyou County starting on May 8th. This popular program allows residents who income qualify to select free\, fresh produce for their households. Built on a “Donate Don’t Dump” Foodlink program and locally administered by Great Northern Services (GNS)\, Tailgate Produce Parties bring a semi-truck full of fresh produce for free distribution to four Siskiyou County locations every month from May through October. \nRead More…
URL:https://www.gnservices.org/event/announced-free-produce-tailgate-parties-returning/
CATEGORIES:In The News
END:VEVENT
END:VCALENDAR