BEGIN:VCALENDAR
VERSION:2.0
PRODID:-//Great Northern Services - ECPv6.15.20//NONSGML v1.0//EN
CALSCALE:GREGORIAN
METHOD:PUBLISH
X-WR-CALNAME:Great Northern Services
X-ORIGINAL-URL:https://www.gnservices.org
X-WR-CALDESC:Events for Great Northern Services
REFRESH-INTERVAL;VALUE=DURATION:PT1H
X-Robots-Tag:noindex
X-PUBLISHED-TTL:PT1H
BEGIN:VTIMEZONE
TZID:America/Los_Angeles
BEGIN:DAYLIGHT
TZOFFSETFROM:-0800
TZOFFSETTO:-0700
TZNAME:PDT
DTSTART:20160313T100000
END:DAYLIGHT
BEGIN:STANDARD
TZOFFSETFROM:-0700
TZOFFSETTO:-0800
TZNAME:PST
DTSTART:20161106T090000
END:STANDARD
BEGIN:DAYLIGHT
TZOFFSETFROM:-0800
TZOFFSETTO:-0700
TZNAME:PDT
DTSTART:20170312T100000
END:DAYLIGHT
BEGIN:STANDARD
TZOFFSETFROM:-0700
TZOFFSETTO:-0800
TZNAME:PST
DTSTART:20171105T090000
END:STANDARD
BEGIN:DAYLIGHT
TZOFFSETFROM:-0800
TZOFFSETTO:-0700
TZNAME:PDT
DTSTART:20180311T100000
END:DAYLIGHT
BEGIN:STANDARD
TZOFFSETFROM:-0700
TZOFFSETTO:-0800
TZNAME:PST
DTSTART:20181104T090000
END:STANDARD
BEGIN:DAYLIGHT
TZOFFSETFROM:-0800
TZOFFSETTO:-0700
TZNAME:PDT
DTSTART:20190310T100000
END:DAYLIGHT
BEGIN:STANDARD
TZOFFSETFROM:-0700
TZOFFSETTO:-0800
TZNAME:PST
DTSTART:20191103T090000
END:STANDARD
END:VTIMEZONE
BEGIN:VEVENT
DTSTART;TZID=America/Los_Angeles:20180802T140000
DTEND;TZID=America/Los_Angeles:20180802T160000
DTSTAMP:20260423T182125
CREATED:20180717T221218Z
LAST-MODIFIED:20180717T221218Z
UID:3868-1533218400-1533225600@www.gnservices.org
SUMMARY:Etna Commodities Distribution
DESCRIPTION:USDA Commodities are being distributed for residents of Etna. Participation is easy! These distributions of shelf-stable staples are a way for low-income households to supplement their diet\, perhaps freeing up some funds for other expenses such as fresh vegetables\, bills\, etc. All USDA foods are domestically grown and are offered as one of USDA’s methods of supporting farmers. \nSee the full list of distribution sites & dates as well as income guidelines and downloadable Alternate Pickup Forms. 
URL:https://www.gnservices.org/event/etna-commodities-distribution/
LOCATION:Etna City Hall\, Etna\, CA\, United States
CATEGORIES:Emergency Food Commodities Distribution
END:VEVENT
BEGIN:VEVENT
DTSTART;TZID=America/Los_Angeles:20180802T100000
DTEND;TZID=America/Los_Angeles:20180802T110000
DTSTAMP:20260423T182125
CREATED:20180717T222554Z
LAST-MODIFIED:20180717T222554Z
UID:3881-1533204000-1533207600@www.gnservices.org
SUMMARY:Gazelle Commodities Distribution
DESCRIPTION:USDA Commodities are being distributed for residents of Gazelle. Participation is easy! These distributions of shelf-stable staples are a way for low-income households to supplement their diet\, perhaps freeing up some funds for other expenses such as fresh vegetables\, bills\, etc. All USDA foods are domestically grown and are offered as one of USDA’s methods of supporting farmers. \nSee the full list of distribution sites & dates as well as income guidelines and downloadable Alternate Pickup Forms. 
URL:https://www.gnservices.org/event/gazelle-commodities-distribution/
LOCATION:Gazelle\, 18425 Old Hwy 99\, Gazelle\, CA\, United States
CATEGORIES:Emergency Food Commodities Distribution
GEO:41.5214174;-122.5206356
X-APPLE-STRUCTURED-LOCATION;VALUE=URI;X-ADDRESS=Gazelle 18425 Old Hwy 99 Gazelle CA United States;X-APPLE-RADIUS=500;X-TITLE=18425 Old Hwy 99:geo:-122.5206356,41.5214174
END:VEVENT
BEGIN:VEVENT
DTSTART;TZID=America/Los_Angeles:20180725T140000
DTEND;TZID=America/Los_Angeles:20180725T160000
DTSTAMP:20260423T182125
CREATED:20180718T234110Z
LAST-MODIFIED:20180718T234110Z
UID:3947-1532527200-1532534400@www.gnservices.org
SUMMARY:Mt. Shasta Commodities Distribution
DESCRIPTION:USDA Commodities are being distributed for residents of Mt. Shasta. Participation is easy! These distributions of shelf-stable staples are a way for low-income households to supplement their diet\, perhaps freeing up some funds for other expenses such as fresh vegetables\, bills\, etc. All USDA foods are domestically grown and are offered as one of USDA’s methods of supporting farmers. \nSee the full list of distribution sites & dates as well as income guidelines and downloadable Alternate Pickup Forms. 
URL:https://www.gnservices.org/event/mt-shasta-commodities-distribution/2018-07-25/
LOCATION:St. Barnabas Church\, 701 Lassen Lane\, Mt. Shasta\, CA\, 96067\, United States
CATEGORIES:Emergency Food Commodities Distribution
GEO:41.3194156;-122.3283933
X-APPLE-STRUCTURED-LOCATION;VALUE=URI;X-ADDRESS=St. Barnabas Church 701 Lassen Lane Mt. Shasta CA 96067 United States;X-APPLE-RADIUS=500;X-TITLE=701 Lassen Lane:geo:-122.3283933,41.3194156
END:VEVENT
BEGIN:VEVENT
DTSTART;TZID=America/Los_Angeles:20180725T133000
DTEND;TZID=America/Los_Angeles:20180725T150000
DTSTAMP:20260423T182125
CREATED:20180717T220747Z
LAST-MODIFIED:20180717T220747Z
UID:3861-1532525400-1532530800@www.gnservices.org
SUMMARY:Dunsmuir Commodities Distribution
DESCRIPTION:USDA Commodities are being distributed for residents of Dunsmuir. Participation is easy! These distributions of shelf-stable staples are a way for low-income households to supplement their diet\, perhaps freeing up some funds for other expenses such as fresh vegetables\, bills\, etc. All USDA foods are domestically grown and are offered as one of USDA’s methods of supporting farmers. \nSee the full list of distribution sites & dates as well as income guidelines and downloadable Alternate Pickup Forms. 
URL:https://www.gnservices.org/event/dunsmuir-commodities-distribution/
LOCATION:Dunsmuir Community Resource Center\, 5840 Dunsmuir Avenue\, Dunsmuir\, CA\, 96025\, United States
CATEGORIES:Emergency Food Commodities Distribution
GEO:41.2101989;-122.2720304
X-APPLE-STRUCTURED-LOCATION;VALUE=URI;X-ADDRESS=Dunsmuir Community Resource Center 5840 Dunsmuir Avenue Dunsmuir CA 96025 United States;X-APPLE-RADIUS=500;X-TITLE=5840 Dunsmuir Avenue:geo:-122.2720304,41.2101989
END:VEVENT
BEGIN:VEVENT
DTSTART;TZID=America/Los_Angeles:20180725T110000
DTEND;TZID=America/Los_Angeles:20180725T150000
DTSTAMP:20260423T182125
CREATED:20180725T193628Z
LAST-MODIFIED:20180725T194407Z
UID:3969-1532516400-1532530800@www.gnservices.org
SUMMARY:Weed Commodities Distribution
DESCRIPTION:USDA Commodities are being distributed for residents of Weed. Participation is easy! These distributions of shelf-stable staples are a way for low-income households to supplement their diet\, perhaps freeing up some funds for other expenses such as fresh vegetables\, bills\, etc. All USDA foods are domestically grown and are offered as one of USDA’s methods of supporting farmers. \nSee the full list of distribution sites & dates as well as income guidelines and downloadable Alternate Pickup Forms. 
URL:https://www.gnservices.org/event/weed-commodities-distribution-2/2018-07-25/
LOCATION:Siskiyou Food Assistance\, 776 S Davis Ave\, Weed\, CA\, 96094\, United States
CATEGORIES:Emergency Food Commodities Distribution
GEO:41.4295383;-122.3797958
X-APPLE-STRUCTURED-LOCATION;VALUE=URI;X-ADDRESS=Siskiyou Food Assistance 776 S Davis Ave Weed CA 96094 United States;X-APPLE-RADIUS=500;X-TITLE=776 S Davis Ave:geo:-122.3797958,41.4295383
END:VEVENT
BEGIN:VEVENT
DTSTART;TZID=America/Los_Angeles:20180725T110000
DTEND;TZID=America/Los_Angeles:20180725T130000
DTSTAMP:20260423T182125
CREATED:20180718T233449Z
LAST-MODIFIED:20180718T233449Z
UID:3937-1532516400-1532523600@www.gnservices.org
SUMMARY:McCloud Commodities Distribution
DESCRIPTION:USDA Commodities are being distributed for residents of McCloud. Participation is easy! These distributions of shelf-stable staples are a way for low-income households to supplement their diet\, perhaps freeing up some funds for other expenses such as fresh vegetables\, bills\, etc. All USDA foods are domestically grown and are offered as one of USDA’s methods of supporting farmers. \nSee the full list of distribution sites & dates as well as income guidelines and downloadable Alternate Pickup Forms. 
URL:https://www.gnservices.org/event/mccloud-commodities-distribution/2018-07-25/
LOCATION:McCloud American Legion Hall (Bingo Room)\, 232 Broadway Avenue\, McCloud\, CA\, 96057\, United States
CATEGORIES:Emergency Food Commodities Distribution
GEO:41.253421;-122.1357123
X-APPLE-STRUCTURED-LOCATION;VALUE=URI;X-ADDRESS=McCloud American Legion Hall (Bingo Room) 232 Broadway Avenue McCloud CA 96057 United States;X-APPLE-RADIUS=500;X-TITLE=232 Broadway Avenue:geo:-122.1357123,41.253421
END:VEVENT
BEGIN:VEVENT
DTSTART;TZID=America/Los_Angeles:20180712T170000
DTEND;TZID=America/Los_Angeles:20180712T190000
DTSTAMP:20260423T182125
CREATED:20180718T234416Z
LAST-MODIFIED:20180718T234416Z
UID:3956-1531414800-1531422000@www.gnservices.org
SUMMARY:Tulelake Commodities Distribution
DESCRIPTION:USDA Commodities are being distributed for residents of Tulelake. Participation is easy! These distributions of shelf-stable staples are a way for low-income households to supplement their diet\, perhaps freeing up some funds for other expenses such as fresh vegetables\, bills\, etc. All USDA foods are domestically grown and are offered as one of USDA’s methods of supporting farmers. \nSee the full list of distribution sites & dates as well as income guidelines and downloadable Alternate Pickup Forms. 
URL:https://www.gnservices.org/event/tulelake-commodities-distribution/2018-07-12/
LOCATION:Butte Valley Community Park
CATEGORIES:Emergency Food Commodities Distribution
END:VEVENT
BEGIN:VEVENT
DTSTART;TZID=America/Los_Angeles:20171227T080000
DTEND;TZID=America/Los_Angeles:20171227T170000
DTSTAMP:20260423T182125
CREATED:20171105T042639Z
LAST-MODIFIED:20171105T042639Z
UID:3606-1514361600-1514394000@www.gnservices.org
SUMMARY:Cecilville Food Distribution
DESCRIPTION:Delivery: call 530-938-4115 ext. 128 for details
URL:https://www.gnservices.org/event/cecilville-food-distribution/
LOCATION:CA
CATEGORIES:Emergency Food Commodities Distribution
END:VEVENT
BEGIN:VEVENT
DTSTART;TZID=America/Los_Angeles:20171221T130000
DTEND;TZID=America/Los_Angeles:20171221T150000
DTSTAMP:20260423T182125
CREATED:20171105T050252Z
LAST-MODIFIED:20171105T050252Z
UID:3663-1513861200-1513868400@www.gnservices.org
SUMMARY:Yreka Food Distribution
DESCRIPTION:
URL:https://www.gnservices.org/event/yreka-food-distribution/
LOCATION:Yreka Community Resource Center\, 201 S. Broadway\, Yreka\, CA\, 96097\, United States
CATEGORIES:Emergency Food Commodities Distribution
GEO:41.7308238;-122.6367763
X-APPLE-STRUCTURED-LOCATION;VALUE=URI;X-ADDRESS=Yreka Community Resource Center 201 S. Broadway Yreka CA 96097 United States;X-APPLE-RADIUS=500;X-TITLE=201 S. Broadway:geo:-122.6367763,41.7308238
END:VEVENT
BEGIN:VEVENT
DTSTART;TZID=America/Los_Angeles:20171215T100000
DTEND;TZID=America/Los_Angeles:20171215T113000
DTSTAMP:20260423T182125
CREATED:20171105T044239Z
LAST-MODIFIED:20171105T044239Z
UID:3626-1513332000-1513337400@www.gnservices.org
SUMMARY:Greenview Food Distribution
DESCRIPTION:Valley Oaks Senior Center
URL:https://www.gnservices.org/event/greenview-food-distribution/
LOCATION:Valley Oaks Senior Center
CATEGORIES:Emergency Food Commodities Distribution
END:VEVENT
BEGIN:VEVENT
DTSTART;TZID=America/Los_Angeles:20171214T150000
DTEND;TZID=America/Los_Angeles:20171214T170000
DTSTAMP:20260423T182125
CREATED:20171105T043724Z
LAST-MODIFIED:20171105T043724Z
UID:3620-1513263600-1513270800@www.gnservices.org
SUMMARY:Fort Jones Food Distribution
DESCRIPTION:
URL:https://www.gnservices.org/event/fort-jones-food-distribution/
LOCATION:Scott Valley Family Resource Center\, 11920 Main Street\, Fort Jones\, CA\, United States
CATEGORIES:Emergency Food Commodities Distribution
GEO:41.5511787;-122.906466
X-APPLE-STRUCTURED-LOCATION;VALUE=URI;X-ADDRESS=Scott Valley Family Resource Center 11920 Main Street Fort Jones CA United States;X-APPLE-RADIUS=500;X-TITLE=11920 Main Street:geo:-122.906466,41.5511787
END:VEVENT
BEGIN:VEVENT
DTSTART;TZID=America/Los_Angeles:20171214T103000
DTEND;TZID=America/Los_Angeles:20171214T123000
DTSTAMP:20260423T182125
CREATED:20171105T043418Z
LAST-MODIFIED:20171105T043418Z
UID:3615-1513247400-1513254600@www.gnservices.org
SUMMARY:Etna Food Distribution
DESCRIPTION:
URL:https://www.gnservices.org/event/etna-food-distribution/
LOCATION:Etna City Hall\, Etna\, CA\, United States
CATEGORIES:Emergency Food Commodities Distribution
END:VEVENT
BEGIN:VEVENT
DTSTART;TZID=America/Los_Angeles:20171206T093000
DTEND;TZID=America/Los_Angeles:20171206T123000
DTSTAMP:20260423T182125
CREATED:20171105T044623Z
LAST-MODIFIED:20171105T044623Z
UID:3632-1512552600-1512563400@www.gnservices.org
SUMMARY:Hornbrook Food Distribution
DESCRIPTION:Thrift Shop
URL:https://www.gnservices.org/event/hornbrook-food-distribution/
LOCATION:Hornbrook Thrift Shop
CATEGORIES:Emergency Food Commodities Distribution
END:VEVENT
BEGIN:VEVENT
DTSTART;TZID=America/Los_Angeles:20171206T090000
DTEND;TZID=America/Los_Angeles:20171206T110000
DTSTAMP:20260423T182125
CREATED:20171105T045355Z
LAST-MODIFIED:20171105T045355Z
UID:3646-1512550800-1512558000@www.gnservices.org
SUMMARY:Montague Food Distribution
DESCRIPTION:
URL:https://www.gnservices.org/event/montague-food-distribution/
LOCATION:Montague Community Center (Rotary Room)\, Montague\, CA\, 96064\, United States
CATEGORIES:Emergency Food Commodities Distribution
END:VEVENT
BEGIN:VEVENT
DTSTART;TZID=America/Los_Angeles:20171128T170000
DTEND;TZID=America/Los_Angeles:20171128T190000
DTSTAMP:20260423T182125
CREATED:20171105T050037Z
LAST-MODIFIED:20171105T050037Z
UID:3657-1511888400-1511895600@www.gnservices.org
SUMMARY:Tulelake Food Distribution
DESCRIPTION:
URL:https://www.gnservices.org/event/tulelake-food-distribution/
LOCATION:Tulelake 1st Baptist Church\, 494 Second Street\, Tulelake\, CA\, 96134\, United States
CATEGORIES:Emergency Food Commodities Distribution
GEO:41.9551752;-121.4776213
X-APPLE-STRUCTURED-LOCATION;VALUE=URI;X-ADDRESS=Tulelake 1st Baptist Church 494 Second Street Tulelake CA 96134 United States;X-APPLE-RADIUS=500;X-TITLE=494 Second Street:geo:-121.4776213,41.9551752
END:VEVENT
BEGIN:VEVENT
DTSTART;TZID=America/Los_Angeles:20171128T140000
DTEND;TZID=America/Los_Angeles:20171128T153000
DTSTAMP:20260423T182125
CREATED:20171105T043017Z
LAST-MODIFIED:20171105T043253Z
UID:3609-1511877600-1511883000@www.gnservices.org
SUMMARY:Doris Food Distribution
DESCRIPTION:
URL:https://www.gnservices.org/event/doris-food-distribution/
LOCATION:Butte Valley Community Park
CATEGORIES:Emergency Food Commodities Distribution
END:VEVENT
BEGIN:VEVENT
DTSTART;TZID=America/Los_Angeles:20171128T130000
DTEND;TZID=America/Los_Angeles:20171128T150000
DTSTAMP:20260423T182125
CREATED:20171105T045113Z
LAST-MODIFIED:20171105T045113Z
UID:3641-1511874000-1511881200@www.gnservices.org
SUMMARY:Macdoel Food Distribution
DESCRIPTION:
URL:https://www.gnservices.org/event/macdoel-food-distribution/
LOCATION:Butte Valley Community Park
CATEGORIES:Emergency Food Commodities Distribution
END:VEVENT
BEGIN:VEVENT
DTSTART;TZID=America/Los_Angeles:20171122T133000
DTEND;TZID=America/Los_Angeles:20171122T150000
DTSTAMP:20260423T182125
CREATED:20171105T043222Z
LAST-MODIFIED:20171105T043228Z
UID:3612-1511357400-1511362800@www.gnservices.org
SUMMARY:Dunsmuir Food Distribution
DESCRIPTION:
URL:https://www.gnservices.org/event/dunsmuir-food-distribution/
LOCATION:Dunsmuir Community Resource Center\, 5840 Dunsmuir Avenue\, Dunsmuir\, CA\, 96025\, United States
CATEGORIES:Emergency Food Commodities Distribution
GEO:41.2101989;-122.2720304
X-APPLE-STRUCTURED-LOCATION;VALUE=URI;X-ADDRESS=Dunsmuir Community Resource Center 5840 Dunsmuir Avenue Dunsmuir CA 96025 United States;X-APPLE-RADIUS=500;X-TITLE=5840 Dunsmuir Avenue:geo:-122.2720304,41.2101989
END:VEVENT
BEGIN:VEVENT
DTSTART;TZID=America/Los_Angeles:20171121T123000
DTEND;TZID=America/Los_Angeles:20171121T133000
DTSTAMP:20260423T182125
CREATED:20171105T045530Z
LAST-MODIFIED:20171105T045530Z
UID:3649-1511267400-1511271000@www.gnservices.org
SUMMARY:Mt. Shasta Food Distribution
DESCRIPTION:
URL:https://www.gnservices.org/event/mt-shasta-food-distribution/
LOCATION:St. Barnabas Church\, 701 Lassen Lane\, Mt. Shasta\, CA\, 96067\, United States
CATEGORIES:Emergency Food Commodities Distribution
GEO:41.3194156;-122.3283933
X-APPLE-STRUCTURED-LOCATION;VALUE=URI;X-ADDRESS=St. Barnabas Church 701 Lassen Lane Mt. Shasta CA 96067 United States;X-APPLE-RADIUS=500;X-TITLE=701 Lassen Lane:geo:-122.3283933,41.3194156
END:VEVENT
BEGIN:VEVENT
DTSTART;TZID=America/Los_Angeles:20171121T110000
DTEND;TZID=America/Los_Angeles:20171121T130000
DTSTAMP:20260423T182125
CREATED:20171105T045236Z
LAST-MODIFIED:20171105T045236Z
UID:3643-1511262000-1511269200@www.gnservices.org
SUMMARY:McCloud Food Distribution
DESCRIPTION:
URL:https://www.gnservices.org/event/mccloud-food-distribution/
LOCATION:McCloud American Legion Hall (Bingo Room)\, 232 Broadway Avenue\, McCloud\, CA\, 96057\, United States
CATEGORIES:Emergency Food Commodities Distribution
GEO:41.253421;-122.1357123
X-APPLE-STRUCTURED-LOCATION;VALUE=URI;X-ADDRESS=McCloud American Legion Hall (Bingo Room) 232 Broadway Avenue McCloud CA 96057 United States;X-APPLE-RADIUS=500;X-TITLE=232 Broadway Avenue:geo:-122.1357123,41.253421
END:VEVENT
BEGIN:VEVENT
DTSTART;TZID=America/Los_Angeles:20171117T120000
DTEND;TZID=America/Los_Angeles:20171117T140000
DTSTAMP:20260423T182125
CREATED:20171105T044419Z
LAST-MODIFIED:20171105T044419Z
UID:3629-1510920000-1510927200@www.gnservices.org
SUMMARY:Happy Camp Food Distribution
DESCRIPTION:
URL:https://www.gnservices.org/event/happy-camp-food-distribution/
LOCATION:Happy Camp Community Center\, 38 Parkway Road\, Happy Camp\, CA\, 96039\, United States
CATEGORIES:Emergency Food Commodities Distribution
GEO:41.7959903;-123.3738348
X-APPLE-STRUCTURED-LOCATION;VALUE=URI;X-ADDRESS=Happy Camp Community Center 38 Parkway Road Happy Camp CA 96039 United States;X-APPLE-RADIUS=500;X-TITLE=38 Parkway Road:geo:-123.3738348,41.7959903
END:VEVENT
BEGIN:VEVENT
DTSTART;TZID=America/Los_Angeles:20171117T090000
DTEND;TZID=America/Los_Angeles:20171117T113000
DTSTAMP:20260423T182125
CREATED:20171105T044739Z
LAST-MODIFIED:20171105T044739Z
UID:3635-1510909200-1510918200@www.gnservices.org
SUMMARY:Horse Creek Food Distribution
DESCRIPTION:
URL:https://www.gnservices.org/event/horse-creek-food-distribution/
LOCATION:Horse Creek Community Church\, 28836 CA-96\, Horse Creek\, CA\, 96050\, United States
CATEGORIES:Emergency Food Commodities Distribution
END:VEVENT
BEGIN:VEVENT
DTSTART;TZID=America/Los_Angeles:20171116T140000
DTEND;TZID=America/Los_Angeles:20171116T153000
DTSTAMP:20260423T182125
CREATED:20171105T045734Z
LAST-MODIFIED:20171105T045734Z
UID:3652-1510840800-1510846200@www.gnservices.org
SUMMARY:Seiad Valley Food Distribution
DESCRIPTION:
URL:https://www.gnservices.org/event/seiad-valley-food-distribution/
LOCATION:Seiad Valley Fire Department\, 44601 CA-96\, Seiad Valley\, CA\, 96086\, United States
CATEGORIES:Emergency Food Commodities Distribution
GEO:41.8416519;-123.1938467
X-APPLE-STRUCTURED-LOCATION;VALUE=URI;X-ADDRESS=Seiad Valley Fire Department 44601 CA-96 Seiad Valley CA 96086 United States;X-APPLE-RADIUS=500;X-TITLE=44601 CA-96:geo:-123.1938467,41.8416519
END:VEVENT
BEGIN:VEVENT
DTSTART;TZID=America/Los_Angeles:20171116T130000
DTEND;TZID=America/Los_Angeles:20171116T143000
DTSTAMP:20260423T182125
CREATED:20171105T045010Z
LAST-MODIFIED:20171105T045010Z
UID:3638-1510837200-1510842600@www.gnservices.org
SUMMARY:Klamath River Food Distribution
DESCRIPTION:
URL:https://www.gnservices.org/event/klamath-river-food-distribution/
LOCATION:Klamath River Community Center
CATEGORIES:Emergency Food Commodities Distribution
END:VEVENT
BEGIN:VEVENT
DTSTART;VALUE=DATE:20171116
DTEND;VALUE=DATE:20171117
DTSTAMP:20260423T182125
CREATED:20171105T045901Z
LAST-MODIFIED:20171105T045901Z
UID:3655-1510790400-1510876799@www.gnservices.org
SUMMARY:Somes Bar Food Distribution
DESCRIPTION:Delivery: call 530-938-4115 ext. 128 for details
URL:https://www.gnservices.org/event/somes-bar-food-distribution/
LOCATION:CA
CATEGORIES:Emergency Food Commodities Distribution
END:VEVENT
BEGIN:VEVENT
DTSTART;VALUE=DATE:20171116
DTEND;VALUE=DATE:20171117
DTSTAMP:20260423T182125
CREATED:20171105T043531Z
LAST-MODIFIED:20171105T043531Z
UID:3618-1510790400-1510876799@www.gnservices.org
SUMMARY:Forks of Salmon Food Distribution
DESCRIPTION:Delivery: call 938-4115 ext. 128 for details
URL:https://www.gnservices.org/event/forks-of-salmon-food-distribution/
LOCATION:CA
CATEGORIES:Emergency Food Commodities Distribution
END:VEVENT
BEGIN:VEVENT
DTSTART;TZID=America/Los_Angeles:20171108T110000
DTEND;TZID=America/Los_Angeles:20171108T150000
DTSTAMP:20260423T182125
CREATED:20171105T050156Z
LAST-MODIFIED:20171105T050156Z
UID:3660-1510138800-1510153200@www.gnservices.org
SUMMARY:Weed Food Distribution
DESCRIPTION:
URL:https://www.gnservices.org/event/weed-food-distribution/
LOCATION:Siskiyou Food Assistance\, 776 S Davis Ave\, Weed\, CA\, 96094\, United States
CATEGORIES:Emergency Food Commodities Distribution
GEO:41.4295383;-122.3797958
X-APPLE-STRUCTURED-LOCATION;VALUE=URI;X-ADDRESS=Siskiyou Food Assistance 776 S Davis Ave Weed CA 96094 United States;X-APPLE-RADIUS=500;X-TITLE=776 S Davis Ave:geo:-122.3797958,41.4295383
END:VEVENT
BEGIN:VEVENT
DTSTART;TZID=America/Los_Angeles:20171107T120000
DTEND;TZID=America/Los_Angeles:20171107T130000
DTSTAMP:20260423T182125
CREATED:20171105T042445Z
LAST-MODIFIED:20171105T042445Z
UID:3603-1510056000-1510059600@www.gnservices.org
SUMMARY:Big Springs Food Distribution
DESCRIPTION:
URL:https://www.gnservices.org/event/big-springs-food-distribution/
LOCATION:Mayten Fire Hall\, 7427 County Hwy A12\, Montague\, CA\, 96064\, United States
CATEGORIES:Emergency Food Commodities Distribution
GEO:41.6242077;-122.4044912
X-APPLE-STRUCTURED-LOCATION;VALUE=URI;X-ADDRESS=Mayten Fire Hall 7427 County Hwy A12 Montague CA 96064 United States;X-APPLE-RADIUS=500;X-TITLE=7427 County Hwy A12:geo:-122.4044912,41.6242077
END:VEVENT
BEGIN:VEVENT
DTSTART;TZID=America/Los_Angeles:20171107T100000
DTEND;TZID=America/Los_Angeles:20171107T110000
DTSTAMP:20260423T182125
CREATED:20171105T043929Z
LAST-MODIFIED:20171105T043929Z
UID:3623-1510048800-1510052400@www.gnservices.org
SUMMARY:Gazelle Food Distribution
DESCRIPTION:
URL:https://www.gnservices.org/event/gazelle-food-distribution/
LOCATION:Gazelle\, 18425 Old Hwy 99\, Gazelle\, CA\, United States
CATEGORIES:Emergency Food Commodities Distribution
GEO:41.5214174;-122.5206356
X-APPLE-STRUCTURED-LOCATION;VALUE=URI;X-ADDRESS=Gazelle 18425 Old Hwy 99 Gazelle CA United States;X-APPLE-RADIUS=500;X-TITLE=18425 Old Hwy 99:geo:-122.5206356,41.5214174
END:VEVENT
END:VCALENDAR