BEGIN:VCALENDAR
VERSION:2.0
PRODID:-//Great Northern Services - ECPv6.15.20//NONSGML v1.0//EN
CALSCALE:GREGORIAN
METHOD:PUBLISH
X-ORIGINAL-URL:https://www.gnservices.org
X-WR-CALDESC:Events for Great Northern Services
REFRESH-INTERVAL;VALUE=DURATION:PT1H
X-Robots-Tag:noindex
X-PUBLISHED-TTL:PT1H
BEGIN:VTIMEZONE
TZID:America/Los_Angeles
BEGIN:DAYLIGHT
TZOFFSETFROM:-0800
TZOFFSETTO:-0700
TZNAME:PDT
DTSTART:20180311T100000
END:DAYLIGHT
BEGIN:STANDARD
TZOFFSETFROM:-0700
TZOFFSETTO:-0800
TZNAME:PST
DTSTART:20181104T090000
END:STANDARD
BEGIN:DAYLIGHT
TZOFFSETFROM:-0800
TZOFFSETTO:-0700
TZNAME:PDT
DTSTART:20190310T100000
END:DAYLIGHT
BEGIN:STANDARD
TZOFFSETFROM:-0700
TZOFFSETTO:-0800
TZNAME:PST
DTSTART:20191103T090000
END:STANDARD
BEGIN:DAYLIGHT
TZOFFSETFROM:-0800
TZOFFSETTO:-0700
TZNAME:PDT
DTSTART:20200308T100000
END:DAYLIGHT
BEGIN:STANDARD
TZOFFSETFROM:-0700
TZOFFSETTO:-0800
TZNAME:PST
DTSTART:20201101T090000
END:STANDARD
END:VTIMEZONE
BEGIN:VEVENT
DTSTART;TZID=America/Los_Angeles:20190207T113000
DTEND;TZID=America/Los_Angeles:20190207T123000
DTSTAMP:20260423T125116
CREATED:20181218T182653Z
LAST-MODIFIED:20190404T152328Z
UID:4853-1549539000-1549542600@www.gnservices.org
SUMMARY:Klamath River Commodities Distribution
DESCRIPTION:USDA Commodities are being distributed for residents of Klamath River. Participation is easy! These distributions of shelf-stable staples are a way for low-income households to supplement their diet\, perhaps freeing up some funds for other expenses such as fresh vegetables\, bills\, etc. All USDA foods are domestically grown and are offered as one of USDA’s methods of supporting farmers. \nSee the full list of distribution sites & dates as well as income guidelines and downloadable Alternate Pickup Forms. 
URL:https://www.gnservices.org/event/klamath-river-commodities-distribution-2/2019-02-07/
LOCATION:Klamath River Community Center
CATEGORIES:Emergency Food Commodities Distribution
END:VEVENT
END:VCALENDAR